BEGIN:VCALENDAR
VERSION:2.0
PRODID:-//gruender-mv.de//EN
BEGIN:VEVENT
UID:69e4da832f78b@gruender-mv.de
DTSTAMP:20260419T133707Z
DTSTART:20240506T170000
DTEND:20240506T213000
SUMMARY:WELCOME Sylt Bay - Project Bay
DESCRIPTION:Wir freuen uns, euch zur 1 Jährigen unseres Coworking Spaces &quot;Sylt Bay&quot; willkommen zu heißen!
URL:https://gruender-mv.de/events/welcome-sylt-bay-project-bay/
END:VEVENT
END:VCALENDAR
