BEGIN:VCALENDAR
VERSION:2.0
PRODID:-//gruender-mv.de//EN
BEGIN:VEVENT
UID:69e4d9e38291f@gruender-mv.de
DTSTAMP:20260419T133427Z
DTSTART:20240521T090000
DTEND:20240521T150000
SUMMARY:IHK-Beratungssprechtag Unternehmensnachfolge (online)
DESCRIPTION:
URL:https://gruender-mv.de/events/ihk-beratungssprechtag-unternehmensnachfolge-online-2/
END:VEVENT
END:VCALENDAR
