BEGIN:VCALENDAR
VERSION:2.0
PRODID:-//gruender-mv.de//EN
BEGIN:VEVENT
UID:69e4da45d64b8@gruender-mv.de
DTSTAMP:20260419T133605Z
DTSTART:20240531T083000
DTEND:20240531T123000
SUMMARY:Fit für die Messe - Training und praktische Übungen für das Standpersonal 
DESCRIPTION:
URL:https://gruender-mv.de/events/fit-fuer-die-messe-training-und-praktische-uebungen-fuer-das-standpersonal/
END:VEVENT
END:VCALENDAR
