BEGIN:VCALENDAR
VERSION:2.0
PRODID:-//gruender-mv.de//EN
BEGIN:VEVENT
UID:69e4da826b047@gruender-mv.de
DTSTAMP:20260419T133706Z
DTSTART:20240523T090000
DTEND:20240523T160000
SUMMARY:Firmenkontaktbörse &quot;StuWi&quot;
DESCRIPTION:
URL:https://gruender-mv.de/events/firmenkontaktboerse-stuwi/
END:VEVENT
END:VCALENDAR
