BEGIN:VCALENDAR
VERSION:2.0
PRODID:-//gruender-mv.de//EN
BEGIN:VEVENT
UID:69e4da8205d7d@gruender-mv.de
DTSTAMP:20260419T133706Z
DTSTART:20240829T180000
DTEND:20240829T213000
SUMMARY:3. Gründungsstammtisch Region Ludwigslust
DESCRIPTION:Save The Date
URL:https://gruender-mv.de/events/3-gruendungsstammtisch-region-ludwigslust/
END:VEVENT
END:VCALENDAR
