BEGIN:VCALENDAR
VERSION:2.0
PRODID:-//gruender-mv.de//EN
BEGIN:VEVENT
UID:69e61a02ec096@gruender-mv.de
DTSTAMP:20260420T122018Z
DTSTART:20240905T180000
DTEND:20240905T210000
SUMMARY:8. Gründungsstammtisch Region Schwerin
DESCRIPTION:Save the Date
URL:https://gruender-mv.de/events/8-gruendungsstammtisch-region-schwerin/
END:VEVENT
END:VCALENDAR
