BEGIN:VCALENDAR
VERSION:2.0
PRODID:-//gruender-mv.de//EN
BEGIN:VEVENT
UID:69e61b0a44703@gruender-mv.de
DTSTAMP:20260420T122442Z
DTSTART:20240918T170000
DTEND:20240918T210000
SUMMARY:10. Gründungsstammtisch &amp; 2. Nachfolgestammtisch Region Wismar
DESCRIPTION:Die Gründungs- und Nachfolgeszene kommt zusammen
URL:https://gruender-mv.de/events/9-gruendungsstammtisch-region-wismar-im-innovationport/
END:VEVENT
END:VCALENDAR
