BEGIN:VCALENDAR
VERSION:2.0
PRODID:-//gruender-mv.de//EN
BEGIN:VEVENT
UID:69e6af6be6fc6@gruender-mv.de
DTSTAMP:20260420T225747Z
DTSTART:20240504T100000
DTEND:20240504T160000
SUMMARY:Tag der offenen Werft Stralsund &amp; 10. Gründungsstammtisch Region HST
DESCRIPTION:Am Samstag, den vierten Mai, öffnet die große Werft in Stralsund die Türen. Die Gründungsszene bereichert das fulminante Gesamtprogramm.
URL:https://gruender-mv.de/events/tag-der-offenen-werft-stralsund-10-gruendungsstammtisch-region-hst/
END:VEVENT
END:VCALENDAR
