BEGIN:VCALENDAR
VERSION:2.0
PRODID:-//gruender-mv.de//EN
BEGIN:VEVENT
UID:69e4d82a4af91@gruender-mv.de
DTSTAMP:20260419T132706Z
DTSTART:20221004T100000
DTEND:20221004T183000
SUMMARY:Drohnentraining und Führerscheinvorbereitung
DESCRIPTION:Begleitung und Unterstützung beim Erlangen des Drohnenführerscheins, inkl. praktischer Übungen.
URL:https://gruender-mv.de/events/drohnentraining-und-fuehrerscheinvorbereitung-2/
END:VEVENT
END:VCALENDAR
