BEGIN:VCALENDAR
VERSION:2.0
PRODID:-//gruender-mv.de//EN
BEGIN:VEVENT
UID:69e4da4b4d5a9@gruender-mv.de
DTSTAMP:20260419T133611Z
DTSTART:20240502T190000
DTEND:20240502T210000
SUMMARY:Bitcoin &amp; Aktien: Sei nicht &quot;Dumb Money&quot;
DESCRIPTION:Vortrag und Q&amp;A mit Anton Hannig
URL:https://gruender-mv.de/events/bitcoin-aktien-sei-nicht-dumb-money/
END:VEVENT
END:VCALENDAR
