BEGIN:VCALENDAR
VERSION:2.0
PRODID:-//gruender-mv.de//EN
BEGIN:VEVENT
UID:69e507321556f@gruender-mv.de
DTSTAMP:20260419T164746Z
DTSTART:20240503T090000
DTEND:20240503T110000
SUMMARY:Frauen stärken Frauen – Netzwerktreffen MV
DESCRIPTION:
URL:https://gruender-mv.de/events/frauen-staerken-frauen-netzwerktreffen-mv/
END:VEVENT
END:VCALENDAR
