BEGIN:VCALENDAR
VERSION:2.0
PRODID:-//gruender-mv.de//EN
BEGIN:VEVENT
UID:69e4da46eb6ce@gruender-mv.de
DTSTAMP:20260419T133606Z
DTSTART:20240522T103000
DTEND:20240522T150000
SUMMARY:Industrie-Kongress Mecklenburg-Vorpommern 2024
DESCRIPTION:
URL:https://gruender-mv.de/events/industrie-kongress-mecklenburg-vorpommern-2024/
END:VEVENT
END:VCALENDAR
