BEGIN:VCALENDAR
VERSION:2.0
PRODID:-//gruender-mv.de//EN
BEGIN:VEVENT
UID:69e4d980364af@gruender-mv.de
DTSTAMP:20260419T133248Z
DTSTART:20240522T090000
DTEND:20240522T180000
SUMMARY:European Coworking Day Wismar Bay
DESCRIPTION:Empower your performance: kostenfreies Coworking, Networking Lunch, Keynote &amp; Community BBQ
URL:https://gruender-mv.de/events/european-coworking-day-wismar-bay/
END:VEVENT
END:VCALENDAR
