BEGIN:VCALENDAR
VERSION:2.0
PRODID:-//gruender-mv.de//EN
BEGIN:VEVENT
UID:69e619cf86fdb@gruender-mv.de
DTSTAMP:20260420T121927Z
DTSTART:20240624T090000
DTEND:20240624T160000
SUMMARY:Seminar &quot;Existenzgründung/Unternehmensführung&quot; - Juni 2024
DESCRIPTION:
URL:https://gruender-mv.de/events/seminar-existenzgruendung-unternehmensfuehrung-juni-2024/
END:VEVENT
END:VCALENDAR
