BEGIN:VCALENDAR
VERSION:2.0
PRODID:-//gruender-mv.de//EN
BEGIN:VEVENT
UID:69e4d9231df06@gruender-mv.de
DTSTAMP:20260419T133115Z
DTSTART:20240701T130000
DTEND:20240701T170000
SUMMARY:mv-works Barcamp in Neubrandenburg
DESCRIPTION:
URL:https://gruender-mv.de/events/mv-works-barcamp-in-neubrandenburg/
END:VEVENT
END:VCALENDAR
