BEGIN:VCALENDAR
VERSION:2.0
PRODID:-//gruender-mv.de//EN
BEGIN:VEVENT
UID:69e619d0aeb71@gruender-mv.de
DTSTAMP:20260420T121928Z
DTSTART:20240612T090000
DTEND:20240612T120000
SUMMARY:HandsOn Workshop - E-Mail Sicherheit
DESCRIPTION:
URL:https://gruender-mv.de/events/handson-workshop-e-mail-sicherheit/
END:VEVENT
END:VCALENDAR
