BEGIN:VCALENDAR
VERSION:2.0
PRODID:-//gruender-mv.de//EN
BEGIN:VEVENT
UID:69e61b07d3e1a@gruender-mv.de
DTSTAMP:20260420T122439Z
DTSTART:20240617T130000
DTEND:20240617T140000
SUMMARY:Webinar - Nachfolge mit Weitblick: Rechtliche Rahmenbedingungen
DESCRIPTION:
URL:https://gruender-mv.de/events/webinar-nachfolge-mit-weitblick-rechtliche-rahmenbedingungen/
END:VEVENT
END:VCALENDAR
