BEGIN:VCALENDAR
VERSION:2.0
PRODID:-//gruender-mv.de//EN
BEGIN:VEVENT
UID:69e61b10db361@gruender-mv.de
DTSTAMP:20260420T122448Z
DTSTART:20240620T130000
DTEND:20240620T140000
SUMMARY:Webinar - Mediation: Konfliktfrei durch den Generationswechsel
DESCRIPTION:
URL:https://gruender-mv.de/events/webinar-mediation-konfliktfrei-durch-den-generationswechsel/
END:VEVENT
END:VCALENDAR
