BEGIN:VCALENDAR
VERSION:2.0
PRODID:-//gruender-mv.de//EN
BEGIN:VEVENT
UID:69e61a3e9b584@gruender-mv.de
DTSTAMP:20260420T122118Z
DTSTART:20230926T180000
DTEND:19700101T010016
SUMMARY:UDUH: Ideenfindung (Auftaktveranstaltung)
DESCRIPTION:
URL:https://gruender-mv.de/events/uduh-ideenfindung-auftaktveranstaltung/
END:VEVENT
END:VCALENDAR
