BEGIN:VCALENDAR
VERSION:2.0
PRODID:-//gruender-mv.de//EN
BEGIN:VEVENT
UID:69e4d799e273d@gruender-mv.de
DTSTAMP:20260419T132441Z
DTSTART:20221122T190000
DTEND:19700101T010018
SUMMARY:Ideen schützen
DESCRIPTION:
URL:https://gruender-mv.de/events/ideen-schuetzen/
END:VEVENT
END:VCALENDAR
