BEGIN:VCALENDAR
VERSION:2.0
PRODID:-//gruender-mv.de//EN
BEGIN:VEVENT
UID:69e619d215230@gruender-mv.de
DTSTAMP:20260420T121930Z
DTSTART:20221006T180000
DTEND:20221006T200000
SUMMARY:3D-Druck im Handwerk
DESCRIPTION:Einblick in die spannende Welt des 3D-Drucks mit praktischen Beispielen fürs Handwerk.
URL:https://gruender-mv.de/events/3d-druck-im-handwerk-2/
END:VEVENT
END:VCALENDAR
