BEGIN:VCALENDAR
VERSION:2.0
PRODID:-//gruender-mv.de//EN
BEGIN:VEVENT
UID:69e506c60787a@gruender-mv.de
DTSTAMP:20260419T164558Z
DTSTART:20221116T190000
DTEND:20221116T011900
SUMMARY:Marketing und Vertrieb
DESCRIPTION:
URL:https://gruender-mv.de/events/marketing-und-vertrieb/
END:VEVENT
END:VCALENDAR
