BEGIN:VCALENDAR
VERSION:2.0
PRODID:-//gruender-mv.de//EN
BEGIN:VEVENT
UID:69e618664b37a@gruender-mv.de
DTSTAMP:20260420T121326Z
DTSTART:20231122T190000
DTEND:20231122T011900
SUMMARY:Das Geschäftsmodell – Pflicht und Kür für Startups
DESCRIPTION:
URL:https://gruender-mv.de/events/das-geschaeftsmodell-pflicht-und-kuer-fuer-startups/
END:VEVENT
END:VCALENDAR
