BEGIN:VCALENDAR
VERSION:2.0
PRODID:-//gruender-mv.de//EN
BEGIN:VEVENT
UID:69e4d7e035e7b@gruender-mv.de
DTSTAMP:20260419T132552Z
DTSTART:20221122T170000
DTEND:20221122T190000
SUMMARY:Virtuelle Realität im Handwerk
DESCRIPTION:Technologie und Handwerk sind kein Gegensatz, sondern ein Team. Lernen Sie, wie Sie VR und AR für sich gewinnbringend einsetzen können.
URL:https://gruender-mv.de/events/virtuelle-realitaet-im-handwerk-2/
END:VEVENT
END:VCALENDAR
