BEGIN:VCALENDAR
VERSION:2.0
PRODID:-//gruender-mv.de//EN
BEGIN:VEVENT
UID:69e4d7df573ac@gruender-mv.de
DTSTAMP:20260419T132551Z
DTSTART:20241029T080000
DTEND:20241029T160000
SUMMARY:Live-Webinar: Umsatzsteuer International
DESCRIPTION:
URL:https://gruender-mv.de/events/live-webinar-umsatzsteuer-international/
END:VEVENT
END:VCALENDAR
