BEGIN:VCALENDAR
VERSION:2.0
PRODID:-//gruender-mv.de//EN
BEGIN:VEVENT
UID:69e4d8910f18c@gruender-mv.de
DTSTAMP:20260419T132849Z
DTSTART:20221121T110000
DTEND:20221122T180000
SUMMARY:[how2gründen] - how2Führung (2 tägiger Intensivworkshop)
DESCRIPTION:Ziel: Vermittlung grundlegender Führungskompetenzen, die im Einklang mit der eigenen Motivstruktur und der Situation nutzbar sind.
URL:https://gruender-mv.de/events/how2gruenden-how2fuehrung-2-taegiger-intensivworkshop/
END:VEVENT
END:VCALENDAR
