BEGIN:VCALENDAR
VERSION:2.0
PRODID:-//gruender-mv.de//EN
BEGIN:VEVENT
UID:69e50c6fd81ff@gruender-mv.de
DTSTAMP:20260419T171007Z
DTSTART:20240626T173000
DTEND:20240626T193000
SUMMARY:#GemeinsamNetzwerken - Wirtschaftsstammtisch Juni 2024
DESCRIPTION:
URL:https://gruender-mv.de/events/gemeinsamnetzwerken-wirtschaftsstammtisch-juni-2024/
END:VEVENT
END:VCALENDAR
