BEGIN:VCALENDAR
VERSION:2.0
PRODID:-//gruender-mv.de//EN
BEGIN:VEVENT
UID:69e618835237e@gruender-mv.de
DTSTAMP:20260420T121355Z
DTSTART:20240723T090000
DTEND:20240723T160000
SUMMARY:Beratungstag Unternehmensnachfolge
DESCRIPTION:
URL:https://gruender-mv.de/events/beratungstag-unternehmensnachfolge/
END:VEVENT
END:VCALENDAR
