BEGIN:VCALENDAR
VERSION:2.0
PRODID:-//gruender-mv.de//EN
BEGIN:VEVENT
UID:69e61a3753846@gruender-mv.de
DTSTAMP:20260420T122111Z
DTSTART:20240827T090000
DTEND:20240827T160000
SUMMARY:Beratungstag Unternehmensnachfolge
DESCRIPTION:
URL:https://gruender-mv.de/events/beratungstag-unternehmensnachfolge-2/
END:VEVENT
END:VCALENDAR
