BEGIN:VCALENDAR
VERSION:2.0
PRODID:-//gruender-mv.de//EN
BEGIN:VEVENT
UID:69e61a3a6a42e@gruender-mv.de
DTSTAMP:20260420T122114Z
DTSTART:20221101T151500
DTEND:19700101T010014
SUMMARY:UDUH: Prozessmanagement / Qualitätssicherung
DESCRIPTION:
URL:https://gruender-mv.de/events/uduh-prozessmanagement-qualitaetssicherung/
END:VEVENT
END:VCALENDAR
