BEGIN:VCALENDAR
VERSION:2.0
PRODID:-//gruender-mv.de//EN
BEGIN:VEVENT
UID:69e4d981a9b85@gruender-mv.de
DTSTAMP:20260419T133249Z
DTSTART:20241024T090000
DTEND:20241025T170000
SUMMARY:How2Projektmanagement (2 tägiger Intensivworkshop)
DESCRIPTION:Ziel: Bedürfnissorientiertes Projektmanagement für Dein Unternehmen
URL:https://gruender-mv.de/events/how2projektmanagement-2-taegiger-intensivworkshop/
END:VEVENT
END:VCALENDAR
