BEGIN:VCALENDAR
VERSION:2.0
PRODID:-//gruender-mv.de//EN
BEGIN:VEVENT
UID:69e4d88f67e63@gruender-mv.de
DTSTAMP:20260419T132847Z
DTSTART:20221117T100000
DTEND:20221117T113000
SUMMARY:Social Entrepreneurship - 10. Gründungstage Vorpommern KOMPAKT
DESCRIPTION:Innerhalb der 10. Gründungstage Vorpommern KOMPAKT laden wir zu unserem Workshop zum Thema &quot;Social Entrepreneurship&quot; herzlich ein.
URL:https://gruender-mv.de/events/social-entrepreneurship-10-gruendungstage-vorpommern-kompakt/
END:VEVENT
END:VCALENDAR
