BEGIN:VCALENDAR
VERSION:2.0
PRODID:-//gruender-mv.de//EN
BEGIN:VEVENT
UID:69e61a03140c0@gruender-mv.de
DTSTAMP:20260420T122019Z
DTSTART:20221206T200000
DTEND:20221207T000000
SUMMARY:2. Gründungsstammtisch Region Schwerin
DESCRIPTION:Zu Nikolas findet der zweite Gründungsstammtisch in unserer Landeshauptstadt Schwerin statt.
URL:https://gruender-mv.de/events/2-gruendungsstammtisch-region-schwerin/
END:VEVENT
END:VCALENDAR
