BEGIN:VCALENDAR
VERSION:2.0
PRODID:-//gruender-mv.de//EN
BEGIN:VEVENT
UID:69e61866c4168@gruender-mv.de
DTSTAMP:20260420T121326Z
DTSTART:20230105T190000
DTEND:19700101T010018
SUMMARY:Workshop – 3D-Druck
DESCRIPTION:
URL:https://gruender-mv.de/events/workshop-3d-druck-2/
END:VEVENT
END:VCALENDAR
