BEGIN:VCALENDAR
VERSION:2.0
PRODID:-//gruender-mv.de//EN
BEGIN:VEVENT
UID:69e4d901b944b@gruender-mv.de
DTSTAMP:20260419T133041Z
DTSTART:20240925T173000
DTEND:20240925T193000
SUMMARY:#GemeinsamNetzwerken - Wirtschaftsstammtisch September 2024
DESCRIPTION:
URL:https://gruender-mv.de/events/gemeinsamnetzwerken-wirtschaftsstammtisch-september-2024/
END:VEVENT
END:VCALENDAR
