BEGIN:VCALENDAR
VERSION:2.0
PRODID:-//gruender-mv.de//EN
BEGIN:VEVENT
UID:69e619cf8d218@gruender-mv.de
DTSTAMP:20260420T121927Z
DTSTART:20240918T020000
DTEND:20240918T020000
SUMMARY:Startup Shuttle
DESCRIPTION:
URL:https://gruender-mv.de/events/startup-shuttle/
END:VEVENT
END:VCALENDAR
