BEGIN:VCALENDAR
VERSION:2.0
PRODID:-//gruender-mv.de//EN
BEGIN:VEVENT
UID:69e61b09ce888@gruender-mv.de
DTSTAMP:20260420T122441Z
DTSTART:20241011T100000
DTEND:20241011T131500
SUMMARY:UDUH: Intelligente Kommunikation – Psychologie des Verkaufs (WPM)
DESCRIPTION:
URL:https://gruender-mv.de/events/uduh-intelligente-kommunikation-psychologie-des-verkaufs-wpm/
END:VEVENT
END:VCALENDAR
