BEGIN:VCALENDAR
VERSION:2.0
PRODID:-//gruender-mv.de//EN
BEGIN:VEVENT
UID:69e4da48bd71d@gruender-mv.de
DTSTAMP:20260419T133608Z
DTSTART:20241017T160000
DTEND:20241017T183000
SUMMARY:Workshop: Lasercut
DESCRIPTION:
URL:https://gruender-mv.de/events/workshop-lasercut/
END:VEVENT
END:VCALENDAR
