BEGIN:VCALENDAR
VERSION:2.0
PRODID:-//gruender-mv.de//EN
BEGIN:VEVENT
UID:69e61b032699f@gruender-mv.de
DTSTAMP:20260420T122435Z
DTSTART:20241018T100000
DTEND:20241018T131500
SUMMARY:UDUH: Teambuilding process (WPM)
DESCRIPTION:
URL:https://gruender-mv.de/events/uduh-teambuilding-process-wpm/
END:VEVENT
END:VCALENDAR
