BEGIN:VCALENDAR
VERSION:2.0
PRODID:-//gruender-mv.de//EN
BEGIN:VEVENT
UID:69e619dc07d98@gruender-mv.de
DTSTAMP:20260420T121940Z
DTSTART:20240925T140000
DTEND:20240925T150000
SUMMARY:DIGITAL.KOMPETENZ: Wie gestalte ich eine gute Website?
DESCRIPTION:
URL:https://gruender-mv.de/events/digital-kompetenz-wie-gestalte-ich-eine-gute-website/
END:VEVENT
END:VCALENDAR
