BEGIN:VCALENDAR
VERSION:2.0
PRODID:-//gruender-mv.de//EN
BEGIN:VEVENT
UID:69e62644637b1@gruender-mv.de
DTSTAMP:20260420T131236Z
DTSTART:20241205T120000
DTEND:20241205T140000
SUMMARY:BITS&amp;MATJES: Effizienz &amp; Innovation – KI im Gesundheitssektor
DESCRIPTION:
URL:https://gruender-mv.de/events/bitsmatjes-effizienz-innovation-ki-im-gesundheitssektor-2/
END:VEVENT
END:VCALENDAR
