BEGIN:VCALENDAR
VERSION:2.0
PRODID:-//gruender-mv.de//EN
BEGIN:VEVENT
UID:69e4d7dbf2b1f@gruender-mv.de
DTSTAMP:20260419T132547Z
DTSTART:20230112T190000
DTEND:19700101T010018
SUMMARY:Workshop – Futterhäuschenbau 
DESCRIPTION:
URL:https://gruender-mv.de/events/workshop-futterhaeuschenbau/
END:VEVENT
END:VCALENDAR
