BEGIN:VCALENDAR
VERSION:2.0
PRODID:-//gruender-mv.de//EN
BEGIN:VEVENT
UID:69e6191ded374@gruender-mv.de
DTSTAMP:20260420T121629Z
DTSTART:20241107T180000
DTEND:20241107T210000
SUMMARY:4. Stammtisch Seenplatte  #NETZWERKEN - EGZ
DESCRIPTION:SAVE THE DATE für den nächsten Stammtisch in Waren
URL:https://gruender-mv.de/events/4-gruendungsstammtisch-der-seenplatte-netzwerken/
END:VEVENT
END:VCALENDAR
