BEGIN:VCALENDAR
VERSION:2.0
PRODID:-//gruender-mv.de//EN
BEGIN:VEVENT
UID:69e4dac65401e@gruender-mv.de
DTSTAMP:20260419T133814Z
DTSTART:20241016T180000
DTEND:20241016T200000
SUMMARY:Meet &amp; Greet on Tour im Fokusraum Ludwigslust
DESCRIPTION:Das Meet &amp; Greet im Oktober begibt sich auf Tour und wird mal nicht im Zukunftszentrum DeveLUP sein.
URL:https://gruender-mv.de/events/meet-greet-on-tour-im-fokusraum-ludwigslust/
END:VEVENT
END:VCALENDAR
