BEGIN:VCALENDAR
VERSION:2.0
PRODID:-//gruender-mv.de//EN
BEGIN:VEVENT
UID:69e4d983e4d2f@gruender-mv.de
DTSTAMP:20260419T133251Z
DTSTART:20230127T200000
DTEND:20230127T223000
SUMMARY:18. Gründungsstammtisch Greifswald
DESCRIPTION:Zum 18. Mal trifft sich die Greifswalder Gründungsszene zum Stammtisch.
URL:https://gruender-mv.de/events/18-gruendungsstammtisch-greifswald/
END:VEVENT
END:VCALENDAR
