BEGIN:VCALENDAR
VERSION:2.0
PRODID:-//gruender-mv.de//EN
BEGIN:VEVENT
UID:69e61a049b99f@gruender-mv.de
DTSTAMP:20260420T122020Z
DTSTART:20241105T150000
DTEND:20241105T180000
SUMMARY:MSEregional - Unternehmen treffen Unternehmen 
DESCRIPTION:
URL:https://gruender-mv.de/events/mseregional-unternehmen-treffen-unternehmen/
END:VEVENT
END:VCALENDAR
