BEGIN:VCALENDAR
VERSION:2.0
PRODID:-//gruender-mv.de//EN
BEGIN:VEVENT
UID:69e61866a9ba8@gruender-mv.de
DTSTAMP:20260420T121326Z
DTSTART:20230222T150000
DTEND:20230222T180000
SUMMARY:Smarte Technologien für das Handwerk
DESCRIPTION:Informationsnachmittag im Makerspace Sassnitz
URL:https://gruender-mv.de/events/smarte-technologien-fuer-das-handwerk-2/
END:VEVENT
END:VCALENDAR
