BEGIN:VCALENDAR
VERSION:2.0
PRODID:-//gruender-mv.de//EN
BEGIN:VEVENT
UID:69e61b0f6a2f3@gruender-mv.de
DTSTAMP:20260420T122447Z
DTSTART:20241105T090000
DTEND:20241105T150000
SUMMARY:IHK-Beratungssprechtag Unternehmensfinanzierung (online)
DESCRIPTION:
URL:https://gruender-mv.de/events/ihk-beratungssprechtag-unternehmensfinanzierung-online-4/
END:VEVENT
END:VCALENDAR
