BEGIN:VCALENDAR
VERSION:2.0
PRODID:-//gruender-mv.de//EN
BEGIN:VEVENT
UID:69e4dac763366@gruender-mv.de
DTSTAMP:20260419T133815Z
DTSTART:20250227T160000
DTEND:20250227T233000
SUMMARY:18. Stammtisch Region Rostock #HEALTHECONOMY - mit BioCon Valley
DESCRIPTION:Am 27. Februar gibt&#039;s volle Pulle Gründungsszene Mecklenburg-Vorpommern unter dem Motto #HEALTH gemeinsam mit BioCon Valley werden die ste
URL:https://gruender-mv.de/events/18-stammtisch-region-rostock-health-mit-biocon-valley/
END:VEVENT
END:VCALENDAR
