BEGIN:VCALENDAR
VERSION:2.0
PRODID:-//gruender-mv.de//EN
BEGIN:VEVENT
UID:69e4d91c6b7be@gruender-mv.de
DTSTAMP:20260419T133108Z
DTSTART:20241122T090000
DTEND:20241122T120000
SUMMARY:IHK-Beratungssprechtag Marketing
DESCRIPTION:
URL:https://gruender-mv.de/events/ihk-beratungssprechtag-marketing/
END:VEVENT
END:VCALENDAR
